BEGIN:VCALENDAR
VERSION:2.0
PRODID:-//hacksw/handcal//NONSGML v1.0//EN
BEGIN:VEVENT
SUMMARY:Nature, CD39 Tavaux
UID:a6097644-07ac-4290-8420-fc871586420f
DTSTART:20260918T220000Z
DTEND:20260920T220000Z
LOCATION:Localisation   
CATEGORIES:Sportif
STATUS:
URL;VALUE=URI:https://www.cr-bfc-tiralarc.net/evenements/2026/09/19/nature-cd39-tavaux-2431015
END:VEVENT
END:VCALENDAR
