BEGIN:VCALENDAR
VERSION:2.0
PRODID:-//hacksw/handcal//NONSGML v1.0//EN
BEGIN:VEVENT
SUMMARY:Nature, Belfort 1ere
UID:0a4742ff-6cbd-4fb3-a944-d980d1a820bf
DTSTART:20260912T220000Z
DTEND:20260913T220000Z
LOCATION:Localisation   
CATEGORIES:Sportif
STATUS:
URL;VALUE=URI:https://www.cr-bfc-tiralarc.net/evenements/2026/09/13/nature-belfort-1ere-2431014
END:VEVENT
END:VCALENDAR
