BEGIN:VCALENDAR
VERSION:2.0
PRODID:-//hacksw/handcal//NONSGML v1.0//EN
BEGIN:VEVENT
SUMMARY:Nature, Gray
UID:81e4dd80-3046-40bd-9c0b-339d288920fa
DTSTART:20260904T220000Z
DTEND:20260906T220000Z
LOCATION:Localisation   
CATEGORIES:Sportif
STATUS:
URL;VALUE=URI:https://www.cr-bfc-tiralarc.net/evenements/2026/09/05/nature-gray-2431012
END:VEVENT
END:VCALENDAR
