BEGIN:VCALENDAR
VERSION:2.0
PRODID:-//hacksw/handcal//NONSGML v1.0//EN
BEGIN:VEVENT
SUMMARY:Beursault, BFC Macon
UID:e6e73230-93ec-4fab-98b2-bc7d75d2c4ab
DTSTART:20260904T220000Z
DTEND:20260906T220000Z
LOCATION:Localisation   
CATEGORIES:Sportif
STATUS:
URL;VALUE=URI:https://www.cr-bfc-tiralarc.net/evenements/2026/09/05/beursault-bfc-macon-2431013
END:VEVENT
END:VCALENDAR
