BEGIN:VCALENDAR
VERSION:2.0
PRODID:-//hacksw/handcal//NONSGML v1.0//EN
BEGIN:VEVENT
SUMMARY:Bouquet, Macon
UID:c85e508e-5767-4ec2-86e7-0f9290f3624e
DTSTART:20260821T220000Z
DTEND:20260822T220000Z
LOCATION:Localisation   
CATEGORIES:Sportif
STATUS:
URL;VALUE=URI:https://www.cr-bfc-tiralarc.net/evenements/2026/08/22/bouquet-macon-2431011
END:VEVENT
END:VCALENDAR
