BEGIN:VCALENDAR
VERSION:2.0
PRODID:-//hacksw/handcal//NONSGML v1.0//EN
BEGIN:VEVENT
SUMMARY:3D, CD70 Dampierre Sur Salon
UID:9e6ee4f8-78c3-411a-8650-e0aa80106572
DTSTART:20260725T220000Z
DTEND:20260726T220000Z
LOCATION:Localisation   
CATEGORIES:Sportif
STATUS:
URL;VALUE=URI:https://www.cr-bfc-tiralarc.net/evenements/2026/07/26/3d-cd70-dampierre-sur-salon-2431010
END:VEVENT
END:VCALENDAR
