BEGIN:VCALENDAR
VERSION:2.0
PRODID:-//hacksw/handcal//NONSGML v1.0//EN
BEGIN:VEVENT
SUMMARY:Campagne, CD21 Marsannay La Cote
UID:154b6c6e-898a-430d-a05d-ef2b2a213cb1
DTSTART:20260718T220000Z
DTEND:20260719T220000Z
LOCATION:Localisation   
CATEGORIES:Sportif
STATUS:
URL;VALUE=URI:https://www.cr-bfc-tiralarc.net/evenements/2026/07/19/campagne-cd21-marsannay-la-cote-2431009
END:VEVENT
END:VCALENDAR
