BEGIN:VCALENDAR
VERSION:2.0
PRODID:-//hacksw/handcal//NONSGML v1.0//EN
BEGIN:VEVENT
SUMMARY:3D, Chagny
UID:055740fa-18c9-445d-8d07-0ede52315b0a
DTSTART:20260717T220000Z
DTEND:20260719T220000Z
LOCATION:Localisation   
CATEGORIES:Sportif
STATUS:
URL;VALUE=URI:https://www.cr-bfc-tiralarc.net/evenements/2026/07/18/3d-chagny-2431008
END:VEVENT
END:VCALENDAR
