BEGIN:VCALENDAR
VERSION:2.0
PRODID:-//hacksw/handcal//NONSGML v1.0//EN
BEGIN:VEVENT
SUMMARY:Campagne, BFC Chenove
UID:4053b78b-f9e0-4d93-a232-598c4ab14e64
DTSTART:20260710T220000Z
DTEND:20260712T220000Z
LOCATION:Localisation   
CATEGORIES:Sportif
STATUS:
URL;VALUE=URI:https://www.cr-bfc-tiralarc.net/evenements/2026/07/11/campagne-bfc-chenove-2431005
END:VEVENT
END:VCALENDAR
