BEGIN:VCALENDAR
VERSION:2.0
PRODID:-//hacksw/handcal//NONSGML v1.0//EN
BEGIN:VEVENT
SUMMARY:Campagne, CD25 Arcey
UID:3daffeab-7519-4dc9-95d1-bee39621cf81
DTSTART:20260704T220000Z
DTEND:20260705T220000Z
LOCATION:Localisation   
CATEGORIES:Sportif
STATUS:
URL;VALUE=URI:https://www.cr-bfc-tiralarc.net/evenements/2026/07/05/campagne-cd25-arcey-2431004
END:VEVENT
END:VCALENDAR
