BEGIN:VCALENDAR
VERSION:2.0
PRODID:-//hacksw/handcal//NONSGML v1.0//EN
BEGIN:VEVENT
SUMMARY:TAE, Brienon Sur Armancon
UID:6b7c4d0e-ca4f-4c30-b075-d891fddbb914
DTSTART:20260703T220000Z
DTEND:20260705T220000Z
LOCATION:Localisation   
CATEGORIES:Sportif
STATUS:
URL;VALUE=URI:https://www.cr-bfc-tiralarc.net/evenements/2026/07/04/tae-brienon-sur-armancon-2431001
END:VEVENT
END:VCALENDAR
