BEGIN:VCALENDAR
VERSION:2.0
PRODID:-//hacksw/handcal//NONSGML v1.0//EN
BEGIN:VEVENT
SUMMARY:10h Beursault, Etrigny
UID:7a80b307-013b-43be-96f5-12f4a7c1d355
DTSTART:20260703T220000Z
DTEND:20260704T220000Z
LOCATION:Localisation   
CATEGORIES:Sportif
STATUS:
URL;VALUE=URI:https://www.cr-bfc-tiralarc.net/evenements/2026/07/04/10h-beursault-etrigny-2431000
END:VEVENT
END:VCALENDAR
