BEGIN:VCALENDAR
VERSION:2.0
PRODID:-//hacksw/handcal//NONSGML v1.0//EN
BEGIN:VEVENT
SUMMARY:BFC TAE I Adultes, Auxonne
UID:f9442acc-04f1-4aa9-a9f2-eb322b88cfa7
DTSTART:20260627T220000Z
DTEND:20260628T220000Z
LOCATION:Localisation   
CATEGORIES:Sportif
STATUS:
URL;VALUE=URI:https://www.cr-bfc-tiralarc.net/evenements/2026/06/28/bfc-tae-i-adultes-auxonne-2430996
END:VEVENT
END:VCALENDAR
