BEGIN:VCALENDAR
VERSION:2.0
PRODID:-//hacksw/handcal//NONSGML v1.0//EN
BEGIN:VEVENT
SUMMARY:Campagne, Cadets d'Auxerre
UID:1b47121b-4b12-41e1-bae0-dce0c572cd74
DTSTART:20260626T220000Z
DTEND:20260628T220000Z
LOCATION:Localisation   
CATEGORIES:Sportif
STATUS:
URL;VALUE=URI:https://www.cr-bfc-tiralarc.net/evenements/2026/06/27/campagne-cadets-dauxerre-2430997
END:VEVENT
END:VCALENDAR
