BEGIN:VCALENDAR
VERSION:2.0
PRODID:-//hacksw/handcal//NONSGML v1.0//EN
BEGIN:VEVENT
SUMMARY:Bouquet, Etrigny
UID:91e8bb03-1c3a-46e7-b65b-cd7f9bd5fec3
DTSTART:20260626T220000Z
DTEND:20260628T220000Z
LOCATION:Localisation   
CATEGORIES:Sportif
STATUS:
URL;VALUE=URI:https://www.cr-bfc-tiralarc.net/evenements/2026/06/27/bouquet-etrigny-2430998
END:VEVENT
END:VCALENDAR
