BEGIN:VCALENDAR
VERSION:2.0
PRODID:-//hacksw/handcal//NONSGML v1.0//EN
BEGIN:VEVENT
SUMMARY:BFC TAE I Jeunes, Auxonne
UID:f79d844d-a293-45ad-9a1c-48cd4f7c346b
DTSTART:20260626T220000Z
DTEND:20260627T220000Z
LOCATION:Localisation   
CATEGORIES:Sportif
STATUS:
URL;VALUE=URI:https://www.cr-bfc-tiralarc.net/evenements/2026/06/27/bfc-tae-i-jeunes-auxonne-2430995
END:VEVENT
END:VCALENDAR
