BEGIN:VCALENDAR
VERSION:2.0
PRODID:-//hacksw/handcal//NONSGML v1.0//EN
BEGIN:VEVENT
SUMMARY:3D, Marchaux
UID:15b4a2f8-97fb-433c-9e1e-85e21624159d
DTSTART:20260626T220000Z
DTEND:20260628T220000Z
LOCATION:Localisation   
CATEGORIES:Sportif
STATUS:
URL;VALUE=URI:https://www.cr-bfc-tiralarc.net/evenements/2026/06/27/3d-marchaux-2430999
END:VEVENT
END:VCALENDAR
