BEGIN:VCALENDAR
VERSION:2.0
PRODID:-//hacksw/handcal//NONSGML v1.0//EN
BEGIN:VEVENT
SUMMARY:TAE, Brienon Sur Armancon
UID:9ee06c9c-f8b3-4932-bd6c-41398618b545
DTSTART:20260623T220000Z
DTEND:20260624T220000Z
LOCATION:Localisation   
CATEGORIES:Sportif
STATUS:
URL;VALUE=URI:https://www.cr-bfc-tiralarc.net/evenements/2026/06/24/tae-brienon-sur-armancon-2430994
END:VEVENT
END:VCALENDAR
