BEGIN:VCALENDAR
VERSION:2.0
PRODID:-//hacksw/handcal//NONSGML v1.0//EN
BEGIN:VEVENT
SUMMARY:TAE, CD25 TAE N Arbouans
UID:a4583633-caeb-4f1c-b496-82c403db2b94
DTSTART:20260620T220000Z
DTEND:20260621T220000Z
LOCATION:Localisation   
CATEGORIES:Sportif
STATUS:
URL;VALUE=URI:https://www.cr-bfc-tiralarc.net/evenements/2026/06/21/tae-cd25-tae-n-arbouans-2430991
END:VEVENT
END:VCALENDAR
