BEGIN:VCALENDAR
VERSION:2.0
PRODID:-//hacksw/handcal//NONSGML v1.0//EN
BEGIN:VEVENT
SUMMARY:TAE, BFC TAE N Dijon
UID:18a7343e-a3f8-4335-bfe6-ea6b26c91af9
DTSTART:20260613T220000Z
DTEND:20260614T220000Z
LOCATION:Localisation   
CATEGORIES:Sportif
STATUS:
URL;VALUE=URI:https://www.cr-bfc-tiralarc.net/evenements/2026/06/14/tae-bfc-tae-n-dijon-2430984
END:VEVENT
END:VCALENDAR
