BEGIN:VCALENDAR
VERSION:2.0
PRODID:-//hacksw/handcal//NONSGML v1.0//EN
BEGIN:VEVENT
SUMMARY:3D, CD 21 Marsannay La Cote
UID:63ed1f9e-ecc4-4730-91ab-5f218e178701
DTSTART:20260613T220000Z
DTEND:20260614T220000Z
LOCATION:Localisation   
CATEGORIES:Sportif
STATUS:
URL;VALUE=URI:https://www.cr-bfc-tiralarc.net/evenements/2026/06/14/3d-cd-21-marsannay-la-cote-2430986
END:VEVENT
END:VCALENDAR
