BEGIN:VCALENDAR
VERSION:2.0
PRODID:-//hacksw/handcal//NONSGML v1.0//EN
BEGIN:VEVENT
SUMMARY:3D Amical, Marsannay La Cote
UID:c342766e-b1dd-49c4-a351-038b6f8014ad
DTSTART:20260612T220000Z
DTEND:20260613T220000Z
LOCATION:Localisation   
CATEGORIES:Sportif
STATUS:
DESCRIPTION:<h2><a
 href="https://admin.sportsregions.fr/media/uploaded/sites/11779/kcupload/files/Invitation%20Amical.jpg"
 target="_blank" rel="noreferrer noopener">Invitation a
 l'evenement</a> </h2>
URL;VALUE=URI:https://www.cr-bfc-tiralarc.net/evenements/2026/06/13/3d-amical-marsannay-la-cote-2443093
END:VEVENT
END:VCALENDAR
