BEGIN:VCALENDAR
VERSION:2.0
PRODID:-//hacksw/handcal//NONSGML v1.0//EN
BEGIN:VEVENT
SUMMARY:TAE, Macon
UID:5c3ac3fc-f315-45a9-ad34-1932e55214df
DTSTART:20260609T220000Z
DTEND:20260610T220000Z
LOCATION:Localisation   
CATEGORIES:Sportif
STATUS:
URL;VALUE=URI:https://www.cr-bfc-tiralarc.net/evenements/2026/06/10/tae-macon-2430981
END:VEVENT
END:VCALENDAR
