BEGIN:VCALENDAR
VERSION:2.0
PRODID:-//hacksw/handcal//NONSGML v1.0//EN
BEGIN:VEVENT
SUMMARY:3D, CD25 Pontarlier
UID:5ff9f85d-9faf-4cb2-a744-514cdd27f9d9
DTSTART:20260530T220000Z
DTEND:20260531T220000Z
LOCATION:Localisation   
CATEGORIES:Sportif
STATUS:
URL;VALUE=URI:https://www.cr-bfc-tiralarc.net/evenements/2026/05/31/3d-cd25-pontarlier-2430973
END:VEVENT
END:VCALENDAR
