BEGIN:VCALENDAR
VERSION:2.0
PRODID:-//hacksw/handcal//NONSGML v1.0//EN
BEGIN:VEVENT
SUMMARY:TAE, CD21 TAE N Saint Apollinaire
UID:e24ccc77-0445-4045-a3d7-c8afb0761a38
DTSTART:20260529T220000Z
DTEND:20260531T220000Z
LOCATION:Localisation   
CATEGORIES:Sportif
STATUS:
URL;VALUE=URI:https://www.cr-bfc-tiralarc.net/evenements/2026/05/30/tae-cd21-tae-n-saint-apollinaire-2430972
END:VEVENT
END:VCALENDAR
