BEGIN:VCALENDAR
VERSION:2.0
PRODID:-//hacksw/handcal//NONSGML v1.0//EN
BEGIN:VEVENT
SUMMARY:Loisir U11, Chevigny Saint Sauveur
UID:70957fb7-a2b7-4cfc-87a9-a586426619e5
DTSTART:20260529T220000Z
DTEND:20260530T220000Z
LOCATION:Localisation   
CATEGORIES:Sportif
STATUS:
URL;VALUE=URI:https://www.cr-bfc-tiralarc.net/evenements/2026/05/30/loisir-u11-chevigny-saint-sauveur-2430970
END:VEVENT
END:VCALENDAR
