BEGIN:VCALENDAR
VERSION:2.0
PRODID:-//hacksw/handcal//NONSGML v1.0//EN
BEGIN:VEVENT
SUMMARY:Beursault, CD71 Etrigny
UID:90bc4baa-0bb8-41be-82a7-a029f6897728
DTSTART:20260529T220000Z
DTEND:20260531T220000Z
LOCATION:Localisation   
CATEGORIES:Sportif
STATUS:
URL;VALUE=URI:https://www.cr-bfc-tiralarc.net/evenements/2026/05/30/beursault-cd71-etrigny-2430971
END:VEVENT
END:VCALENDAR
