BEGIN:VCALENDAR
VERSION:2.0
PRODID:-//hacksw/handcal//NONSGML v1.0//EN
BEGIN:VEVENT
SUMMARY:TAE, CD39 Lons Le Saunier
UID:376edde8-8131-4ec4-a95c-635391e7875f
DTSTART:20260522T220000Z
DTEND:20260523T220000Z
LOCATION:Localisation   
CATEGORIES:Sportif
STATUS:
URL;VALUE=URI:https://www.cr-bfc-tiralarc.net/evenements/2026/05/23/tae-cd39-lons-le-saunier-2430209
END:VEVENT
END:VCALENDAR
