BEGIN:VCALENDAR
VERSION:2.0
PRODID:-//hacksw/handcal//NONSGML v1.0//EN
BEGIN:VEVENT
SUMMARY:TAE, CD21 Para Semur En Auxois
UID:97ec7216-9358-4d88-8b0f-e4062ff4a3ce
DTSTART:20260522T220000Z
DTEND:20260525T220000Z
LOCATION:Localisation   
CATEGORIES:Sportif
STATUS:
URL;VALUE=URI:https://www.cr-bfc-tiralarc.net/evenements/2026/05/23/tae-cd21-para-semur-en-auxois-2430213
END:VEVENT
END:VCALENDAR
