BEGIN:VCALENDAR
VERSION:2.0
PRODID:-//hacksw/handcal//NONSGML v1.0//EN
BEGIN:VEVENT
SUMMARY:TAE, Montceau Les Mines
UID:9bb420ef-67dd-41ac-a492-e9f6c3ec42da
DTSTART:20260519T220000Z
DTEND:20260520T220000Z
LOCATION:Localisation   
CATEGORIES:Sportif
STATUS:
URL;VALUE=URI:https://www.cr-bfc-tiralarc.net/evenements/2026/05/20/tae-montceau-les-mines-2430208
END:VEVENT
END:VCALENDAR
