BEGIN:VCALENDAR
VERSION:2.0
PRODID:-//hacksw/handcal//NONSGML v1.0//EN
BEGIN:VEVENT
SUMMARY:TAE, Brienon Sur Armancon
UID:3ef08bb0-9da8-40ce-8363-5c3767916f62
DTSTART:20260519T220000Z
DTEND:20260520T220000Z
LOCATION:Localisation   
CATEGORIES:Sportif
STATUS:
URL;VALUE=URI:https://www.cr-bfc-tiralarc.net/evenements/2026/05/20/tae-brienon-sur-armancon-2430207
END:VEVENT
END:VCALENDAR
