BEGIN:VCALENDAR
VERSION:2.0
PRODID:-//hacksw/handcal//NONSGML v1.0//EN
BEGIN:VEVENT
SUMMARY:TAE, CD89 TAEN Les Cadets d'Auxerre
UID:71cfed87-5710-48da-be18-6b23a8d3f81a
DTSTART:20260516T220000Z
DTEND:20260517T220000Z
LOCATION:Localisation   
CATEGORIES:Sportif
STATUS:
URL;VALUE=URI:https://www.cr-bfc-tiralarc.net/evenements/2026/05/17/tae-cd89-taen-les-cadets-dauxerre-2430206
END:VEVENT
END:VCALENDAR
