BEGIN:VCALENDAR
VERSION:2.0
PRODID:-//hacksw/handcal//NONSGML v1.0//EN
BEGIN:VEVENT
SUMMARY:TAE, Belfort Savoureuse
UID:b7787ace-d0ec-434b-a8e6-76a5deccce71
DTSTART:20260516T220000Z
DTEND:20260517T220000Z
LOCATION:Localisation   
CATEGORIES:Sportif
STATUS:
DESCRIPTION:<h2><a
 href="https://admin.sportsregions.fr/media/uploaded/sites/11779/kcupload/files/Invitation%20TAE%20Belfort%20-%2017%20mai%202026.pdf"
 target="_blank" rel="noreferrer noopener">Invitation a la
 competition</a> <a
 href="https://admin.sportsregions.fr/media/uploaded/sites/11779/kcupload/files/Fiche%20d'inscription%20TAE%20-%2017%20mai%202026.doc"
 target="_blank" rel="noreferrer noopener"><span
 style="font-size:10px;">(acces a la fiche
 d'inscription)</span></a></h2>
URL;VALUE=URI:https://www.cr-bfc-tiralarc.net/evenements/2026/05/17/tae-belfort-savoureuse-2430205
END:VEVENT
END:VCALENDAR
