BEGIN:VCALENDAR
VERSION:2.0
PRODID:-//hacksw/handcal//NONSGML v1.0//EN
BEGIN:VEVENT
SUMMARY:Campagne, CD39 Morez
UID:911e0255-8583-415b-a502-c3603466c2cf
DTSTART:20260508T220000Z
DTEND:20260509T220000Z
LOCATION:Localisation   
CATEGORIES:Sportif
STATUS:
DESCRIPTION:<h2><a
 href="https://admin.sportsregions.fr/media/uploaded/sites/11779/kcupload/files/mandat%20campagne%202026-05.pdf"
 target="_blank" rel="noreferrer noopener">Invitation a la
 competition</a></h2>
URL;VALUE=URI:https://www.cr-bfc-tiralarc.net/evenements/2026/05/09/campagne-cd39-morez-2429418
END:VEVENT
END:VCALENDAR
