BEGIN:VCALENDAR
VERSION:2.0
PRODID:-//hacksw/handcal//NONSGML v1.0//EN
BEGIN:VEVENT
SUMMARY:TAE, CD58 TAEN Cosne Sur Loire
UID:cd0adf9c-a92c-449f-b41e-115a22eec4fa
DTSTART:20260502T220000Z
DTEND:20260503T220000Z
LOCATION:Localisation   
CATEGORIES:Sportif
STATUS:
URL;VALUE=URI:https://www.cr-bfc-tiralarc.net/evenements/2026/05/03/tae-cd58-taen-cosne-sur-loire-2430197
END:VEVENT
END:VCALENDAR
