BEGIN:VCALENDAR
VERSION:2.0
PRODID:-//hacksw/handcal//NONSGML v1.0//EN
BEGIN:VEVENT
SUMMARY:TAE, Brienon Sur Armancon
UID:ed2458fc-561b-4ff6-8141-34479626c1ca
DTSTART:20260428T220000Z
DTEND:20260429T220000Z
LOCATION:Localisation   
CATEGORIES:Sportif
STATUS:
DESCRIPTION:<h2><a
 href="https://admin.sportsregions.fr/media/uploaded/sites/11779/kcupload/files/Mandat%20Brienon%2029_04_26%20TAE.pdf"
 target="_blank" rel="noreferrer noopener">Invitation a la
 competition</a></h2>
URL;VALUE=URI:https://www.cr-bfc-tiralarc.net/evenements/2026/04/29/tae-brienon-sur-armancon-2430193
END:VEVENT
END:VCALENDAR
