BEGIN:VCALENDAR
VERSION:2.0
PRODID:-//hacksw/handcal//NONSGML v1.0//EN
BEGIN:VEVENT
SUMMARY:Nature, CD25 + BFC Marchaux
UID:d5cc3666-2374-486b-9396-576f70112b2d
DTSTART:20260425T220000Z
DTEND:20260426T220000Z
LOCATION:Localisation   
CATEGORIES:Sportif
STATUS:
DESCRIPTION:<h2><a
 href="https://admin.sportsregions.fr/media/uploaded/sites/11779/kcupload/files/Mandat%20tir%20nature%20%C3%A0%20Marchaux%2026042026.pdf"
 target="_blank" rel="noreferrer noopener">Invitation a la
 competition</a></h2>
URL;VALUE=URI:https://www.cr-bfc-tiralarc.net/evenements/2026/04/26/nature-cd25-bfc-marchaux-2430190
END:VEVENT
END:VCALENDAR
